BEGIN:VCALENDAR
VERSION:2.0
PRODID:spatie/icalendar-generator
DESCRIPTION:Events from Verein Grünzeug
X-WR-CALDESC:Events from Verein Grünzeug
REFRESH-INTERVAL;VALUE=DURATION:PT1440M
X-PUBLISHED-TTL:PT1440M
BEGIN:VTIMEZONE
TZID:Europe/Vienna
BEGIN:DAYLIGHT
DTSTART:20230326T020000Z
TZOFFSETFROM:+0100
TZOFFSETTO:+0200
END:DAYLIGHT
BEGIN:STANDARD
DTSTART:20231029T030000Z
TZOFFSETFROM:+0200
TZOFFSETTO:+0100
END:STANDARD
END:VTIMEZONE
BEGIN:VTIMEZONE
TZID:UTC
BEGIN:STANDARD
DTSTART:20250723T234652Z
TZOFFSETFROM:+0000
TZOFFSETTO:+0000
END:STANDARD
END:VTIMEZONE
BEGIN:VEVENT
UID:9-8
DTSTAMP:20260419T234652Z
SUMMARY:KRAPOLDI
LOCATION:Rapoldipark Körnerstraße 2  Innsbruck  6020
ORGANIZER;CN=gruenzeugadmin:MAILTO:christian.gasser1993@protonmail.com
DTSTART;TZID=Europe/Vienna:20230903T100000
DTEND;TZID=Europe/Vienna:20230903T160000
X-ALT-DESC;FMTTYPE=TEXT/HTML:Kommt am 3.09 vorbei und besucht uns beim Krap
 oldi Festival im Rapoldipark am Marktplatz der Utopien neben dem Stand des
  Leihladens. Wir beteiligen uns an dem Event mit einer gesunden Jause und 
 freuen uns\, wenn Leute uns besuchen und/oder mithelfen. Mehr zu all dem e
 rfährt ihr hier: https://www.krapoldi.at/
CATEGORIES:Allgemein
URL;VALUE=URI:https://gruenzeug.tirol/mc-events/krapoldi/
METHOD:PUBLISH
END:VEVENT
END:VCALENDAR