BEGIN:VCALENDAR
VERSION:2.0
PRODID:spatie/icalendar-generator
DESCRIPTION:Events from Verein Grünzeug
X-WR-CALDESC:Events from Verein Grünzeug
REFRESH-INTERVAL;VALUE=DURATION:PT1440M
X-PUBLISHED-TTL:PT1440M
BEGIN:VTIMEZONE
TZID:Europe/Vienna
BEGIN:DAYLIGHT
DTSTART:20230326T020000Z
TZOFFSETFROM:+0100
TZOFFSETTO:+0200
END:DAYLIGHT
BEGIN:STANDARD
DTSTART:20231029T030000Z
TZOFFSETFROM:+0200
TZOFFSETTO:+0100
END:STANDARD
END:VTIMEZONE
BEGIN:VTIMEZONE
TZID:UTC
BEGIN:STANDARD
DTSTART:20250724T010723Z
TZOFFSETFROM:+0000
TZOFFSETTO:+0000
END:STANDARD
END:VTIMEZONE
BEGIN:VEVENT
UID:5-5
DTSTAMP:20260420T010723Z
SUMMARY:Come Together
LOCATION:Schloss Ambras Schlossstraße 20  Innsbruck  6020
ORGANIZER;CN=gruenzeugadmin:MAILTO:christian.gasser1993@protonmail.com
DTSTART;TZID=Europe/Vienna:20230815T140000
DTEND;TZID=Europe/Vienna:20230815T180000
X-ALT-DESC;FMTTYPE=TEXT/HTML:Come Together am 15.8. von 14 Uhr - 18 Uhr auf
  der Wiese beim Schloss Ambras (Schlossfest) in Innsbruck.
CATEGORIES:Allgemein
URL;VALUE=URI:https://gruenzeug.tirol/mc-events/come-together/
METHOD:PUBLISH
END:VEVENT
END:VCALENDAR