BEGIN:VCALENDAR
VERSION:2.0
PRODID:spatie/icalendar-generator
DESCRIPTION:Events from Verein Grünzeug
X-WR-CALDESC:Events from Verein Grünzeug
REFRESH-INTERVAL;VALUE=DURATION:PT1440M
X-PUBLISHED-TTL:PT1440M
BEGIN:VTIMEZONE
TZID:Europe/Vienna
BEGIN:STANDARD
DTSTART:20231029T030000Z
TZOFFSETFROM:+0200
TZOFFSETTO:+0100
END:STANDARD
BEGIN:DAYLIGHT
DTSTART:20240331T020000Z
TZOFFSETFROM:+0100
TZOFFSETTO:+0200
END:DAYLIGHT
BEGIN:STANDARD
DTSTART:20241027T030000Z
TZOFFSETFROM:+0200
TZOFFSETTO:+0100
END:STANDARD
END:VTIMEZONE
BEGIN:VTIMEZONE
TZID:UTC
BEGIN:STANDARD
DTSTART:20250723T143014Z
TZOFFSETFROM:+0000
TZOFFSETTO:+0000
END:STANDARD
END:VTIMEZONE
BEGIN:VEVENT
UID:19-14
DTSTAMP:20260419T143014Z
SUMMARY:Marketingtreffen
LOCATION:greenroot Marktgraben 14  Innsbruck  6020
ORGANIZER;CN=gruenzeugadmin:MAILTO:christian.gasser1993@protonmail.com
DTSTART;TZID=Europe/Vienna:20240429T100000
DTEND;TZID=Europe/Vienna:20240429T120000
X-ALT-DESC;FMTTYPE=TEXT/HTML:Wir laden herzlich ein zum Marketingtreffen am
  Dienstag\, den 29.04 um 10:00 Uhr im greenroot am Marktgraben 14. Die The
 men dabei sind anstehende Aktionen\, wer übernimmt was\, Optik der Market
 ing-Maßnahmen\,... Wir freuen uns auf euch.
CATEGORIES:Allgemein
URL;VALUE=URI:https://gruenzeug.tirol/mc-events/marketingtreffen/
METHOD:PUBLISH
END:VEVENT
END:VCALENDAR