BEGIN:VCALENDAR
VERSION:2.0
PRODID:spatie/icalendar-generator
DESCRIPTION:Events from Verein Grünzeug
X-WR-CALDESC:Events from Verein Grünzeug
REFRESH-INTERVAL;VALUE=DURATION:PT1440M
X-PUBLISHED-TTL:PT1440M
BEGIN:VTIMEZONE
TZID:Europe/Vienna
BEGIN:STANDARD
DTSTART:20231029T030000Z
TZOFFSETFROM:+0200
TZOFFSETTO:+0100
END:STANDARD
BEGIN:DAYLIGHT
DTSTART:20240331T020000Z
TZOFFSETFROM:+0100
TZOFFSETTO:+0200
END:DAYLIGHT
END:VTIMEZONE
BEGIN:VTIMEZONE
TZID:UTC
BEGIN:STANDARD
DTSTART:20250723T154911Z
TZOFFSETFROM:+0000
TZOFFSETTO:+0000
END:STANDARD
END:VTIMEZONE
BEGIN:VEVENT
UID:17-16
DTSTAMP:20260419T154911Z
SUMMARY:11. Offenes Vereinstreffen
LOCATION:greenroot Marktgraben 14  Innsbruck  6020
ORGANIZER;CN=gruenzeugadmin:MAILTO:christian.gasser1993@protonmail.com
DTSTART;TZID=Europe/Vienna:20240405T190000
DTEND;TZID=Europe/Vienna:20240405T210000
X-ALT-DESC;FMTTYPE=TEXT/HTML:Wir laden herzlich ein zum nächsten offenen V
 ereinstreffen am Freitag\, den 05.04 um 19 Uhr im greenroot am Marktgraben
  14. Wir treffen uns im Geschäft und gehen dann gemeinsam zum Klimacamp b
 eim Landestheater. Dort besprechen wir den aktuellen Stand der Dinge und k
 ommende Aktivitäten. Wir freuen uns auf euch!
CATEGORIES:Allgemein
URL;VALUE=URI:https://gruenzeug.tirol/mc-events/11-offenes-vereinstreffen/
METHOD:PUBLISH
END:VEVENT
END:VCALENDAR