BEGIN:VCALENDAR
VERSION:2.0
PRODID:spatie/icalendar-generator
DESCRIPTION:Events from Verein Grünzeug
X-WR-CALDESC:Events from Verein Grünzeug
REFRESH-INTERVAL;VALUE=DURATION:PT1440M
X-PUBLISHED-TTL:PT1440M
BEGIN:VTIMEZONE
TZID:Europe/Vienna
BEGIN:DAYLIGHT
DTSTART:20230326T020000Z
TZOFFSETFROM:+0100
TZOFFSETTO:+0200
END:DAYLIGHT
BEGIN:STANDARD
DTSTART:20231029T030000Z
TZOFFSETFROM:+0200
TZOFFSETTO:+0100
END:STANDARD
BEGIN:DAYLIGHT
DTSTART:20240331T020000Z
TZOFFSETFROM:+0100
TZOFFSETTO:+0200
END:DAYLIGHT
END:VTIMEZONE
BEGIN:VTIMEZONE
TZID:UTC
BEGIN:STANDARD
DTSTART:20250723T193102Z
TZOFFSETFROM:+0000
TZOFFSETTO:+0000
END:STANDARD
END:VTIMEZONE
BEGIN:VEVENT
UID:11-10
DTSTAMP:20260419T193102Z
SUMMARY:7. Offenes Vereinstreffen
LOCATION:greenroot Marktgraben 14  Innsbruck  6020
ORGANIZER;CN=gruenzeugadmin:MAILTO:christian.gasser1993@protonmail.com
DTSTART;TZID=Europe/Vienna:20231006T190000
DTEND;TZID=Europe/Vienna:20231006T210000
X-ALT-DESC;FMTTYPE=TEXT/HTML:Wir laden herzlich ein zum nächsten offenen V
 ereinstreffen diesen Freitag\, den 06.10 um 19 Uhr im greenroot am Marktgr
 aben 14. Themen dieses Mal werden die bevorstehende Neueröffnung des Unve
 rpacktladens sein sowie unter anderem auch\, wie man sich da dann optimal 
 einbringen kann\, sobald der Geschäftsbetrieb losgeht. Sofern es Leute gi
 bt\, die an aktiver Mithilfe interessiert&amp;hellip\;
CATEGORIES:Allgemein
URL;VALUE=URI:https://gruenzeug.tirol/mc-events/7-offenes-vereinstreffen/
METHOD:PUBLISH
END:VEVENT
END:VCALENDAR