BEGIN:VCALENDAR
VERSION:2.0
PRODID:spatie/icalendar-generator
DESCRIPTION:Events from Verein Grünzeug
X-WR-CALDESC:Events from Verein Grünzeug
REFRESH-INTERVAL;VALUE=DURATION:PT1440M
X-PUBLISHED-TTL:PT1440M
BEGIN:VTIMEZONE
TZID:Europe/Vienna
BEGIN:DAYLIGHT
DTSTART:20230326T020000Z
TZOFFSETFROM:+0100
TZOFFSETTO:+0200
END:DAYLIGHT
BEGIN:STANDARD
DTSTART:20231029T030000Z
TZOFFSETFROM:+0200
TZOFFSETTO:+0100
END:STANDARD
END:VTIMEZONE
BEGIN:VTIMEZONE
TZID:UTC
BEGIN:STANDARD
DTSTART:20250723T210548Z
TZOFFSETFROM:+0000
TZOFFSETTO:+0000
END:STANDARD
END:VTIMEZONE
BEGIN:VEVENT
UID:10-9
DTSTAMP:20260419T210548Z
SUMMARY:6. Offenes Vereinstreffen
LOCATION:greenroot Marktgraben 14  Innsbruck  6020
ORGANIZER;CN=gruenzeugadmin:MAILTO:christian.gasser1993@protonmail.com
DTSTART;TZID=Europe/Vienna:20230926T190000
DTEND;TZID=Europe/Vienna:20230926T210000
X-ALT-DESC;FMTTYPE=TEXT/HTML:Da wir nun eine mündliche Zusage vom Vermiete
 r bezüglich der Übernahme des Geschäftslokals vom greenroot erhalten ha
 ben\, möchten wir zum nächsten offenen Vereinstreffen einladen\, wobei w
 ir gerne die nächsten Schritte des Vereins besprechen wollen. Das Treffen
  findet am 26.09 um 19:00 Uhr im greenroot am Marktgraben 14 in Innsbruck 
 statt. Wir freuen uns euch!
CATEGORIES:Allgemein
URL;VALUE=URI:https://gruenzeug.tirol/mc-events/6-offenes-vereinstreffen/
METHOD:PUBLISH
END:VEVENT
END:VCALENDAR