BEGIN:VCALENDAR
VERSION:2.0
PRODID:spatie/icalendar-generator
DESCRIPTION:Events from Verein Grünzeug
X-WR-CALDESC:Events from Verein Grünzeug
REFRESH-INTERVAL;VALUE=DURATION:PT1440M
X-PUBLISHED-TTL:PT1440M
BEGIN:VTIMEZONE
TZID:Europe/Vienna
BEGIN:STANDARD
DTSTART:20251026T030000Z
TZOFFSETFROM:+0200
TZOFFSETTO:+0100
END:STANDARD
BEGIN:DAYLIGHT
DTSTART:20260329T020000Z
TZOFFSETFROM:+0100
TZOFFSETTO:+0200
END:DAYLIGHT
END:VTIMEZONE
BEGIN:VTIMEZONE
TZID:UTC
BEGIN:STANDARD
DTSTART:20250723T154249Z
TZOFFSETFROM:+0000
TZOFFSETTO:+0000
END:STANDARD
END:VTIMEZONE
BEGIN:VEVENT
UID:42-34
DTSTAMP:20260419T154249Z
SUMMARY:2. Generalversammlung
LOCATION:Eurythmiesaal der Waldorfschule Innsbruck Jahnstraße 5  Innsbruck
   6020
ORGANIZER;CN=gruenzeugadmin:MAILTO:christian.gasser1993@protonmail.com
DTSTART;TZID=Europe/Vienna:20260307T183000
DTEND;TZID=Europe/Vienna:20260307T210000
X-ALT-DESC;FMTTYPE=TEXT/HTML:Liebe Freund*innen und Mitglieder\, Grünzeug 
 lädt zur Generalversammlung ein. am 7. März 2026 um 18:30 Uhr in der Wal
 dorfschule\, Jahnstrasse 5 in Innsbruck Dabei wird auch der neue Vorstand 
 gewählt. Wir bitten um Einreichung von Tagesordnungspunkten\, sowie von W
 ahlvorschlägen für den Vorstand &amp;amp\; Rechnungsprüfer*innen bis zum 28
 . Feb. 2026. Wir freuen uns auf euch! Der&amp;hellip\;
CATEGORIES:Allgemein
URL;VALUE=URI:https://gruenzeug.tirol/mc-events/2-generalversammlung-2/
METHOD:PUBLISH
END:VEVENT
END:VCALENDAR