BEGIN:VCALENDAR
VERSION:2.0
PRODID:spatie/icalendar-generator
DESCRIPTION:Events from Verein Grünzeug
X-WR-CALDESC:Events from Verein Grünzeug
REFRESH-INTERVAL;VALUE=DURATION:PT1440M
X-PUBLISHED-TTL:PT1440M
BEGIN:VTIMEZONE
TZID:Europe/Vienna
BEGIN:DAYLIGHT
DTSTART:20250330T020000Z
TZOFFSETFROM:+0100
TZOFFSETTO:+0200
END:DAYLIGHT
BEGIN:STANDARD
DTSTART:20251026T030000Z
TZOFFSETFROM:+0200
TZOFFSETTO:+0100
END:STANDARD
END:VTIMEZONE
BEGIN:VTIMEZONE
TZID:UTC
BEGIN:STANDARD
DTSTART:20250723T131900Z
TZOFFSETFROM:+0000
TZOFFSETTO:+0000
END:STANDARD
END:VTIMEZONE
BEGIN:VEVENT
UID:41-33
DTSTAMP:20260419T131900Z
SUMMARY:Betriebsurlaub greenroot
LOCATION:greenroot Marktgraben 14  Innsbruck  6020
ORGANIZER;CN=gruenzeugadmin:MAILTO:christian.gasser1993@protonmail.com
DTSTART;TZID=Europe/Vienna;VALUE=DATE:20250825
DTEND;TZID=Europe/Vienna;VALUE=DATE:20250908
X-ALT-DESC;FMTTYPE=TEXT/HTML:Wir machen eine kurze Pause vom 25. August bis
  7. September. Ab Montag\, den 8. September\, sind wir wieder wie gewohnt 
 da: Montag - Freitag: 10 - 18 Uhr Samstag: 10 - 14 Uhr
CATEGORIES:Allgemein
URL;VALUE=URI:https://gruenzeug.tirol/mc-events/betriebsurlaub-greenroot-2/
METHOD:PUBLISH
END:VEVENT
END:VCALENDAR