BEGIN:VCALENDAR
VERSION:2.0
PRODID:spatie/icalendar-generator
DESCRIPTION:Events from Verein Grünzeug
X-WR-CALDESC:Events from Verein Grünzeug
REFRESH-INTERVAL;VALUE=DURATION:PT1440M
X-PUBLISHED-TTL:PT1440M
BEGIN:VTIMEZONE
TZID:Europe/Vienna
BEGIN:DAYLIGHT
DTSTART:20250330T020000Z
TZOFFSETFROM:+0100
TZOFFSETTO:+0200
END:DAYLIGHT
BEGIN:STANDARD
DTSTART:20251026T030000Z
TZOFFSETFROM:+0200
TZOFFSETTO:+0100
END:STANDARD
END:VTIMEZONE
BEGIN:VTIMEZONE
TZID:UTC
BEGIN:STANDARD
DTSTART:20250723T143056Z
TZOFFSETFROM:+0000
TZOFFSETTO:+0000
END:STANDARD
END:VTIMEZONE
BEGIN:VEVENT
UID:39-32
DTSTAMP:20260419T143056Z
SUMMARY:Offenes Vereinspicknick
LOCATION:Hofgarten Rennweg  Innsbruck   6020
ORGANIZER;CN=gruenzeugadmin:MAILTO:christian.gasser1993@protonmail.com
DTSTART;TZID=Europe/Vienna:20250831T110000
DTEND;TZID=Europe/Vienna:20250831T160000
X-ALT-DESC;FMTTYPE=TEXT/HTML:Der Verein lädt zum offenen Vereinspicknick\,
  bei dem jeder kommen kann. Der Treffpunkt ist im Hofgarten beim Musikpavi
 llon\, wir werden uns dann aber auf eine der umliegenden Wiesen begeben. W
 ir nehmen einiges vom greenroot mit\, ihr könnt aber gerne eigene Geträn
 ke usw. mitbringen. Bitte an Sitzgelegenheit (Decke o.ä.) denken. Kinder 
 sind willkommen\, Musikinstrumente auch. Wir&amp;hellip\;
CATEGORIES:Allgemein
URL;VALUE=URI:https://gruenzeug.tirol/mc-events/offenes-vereinspicknick/
METHOD:PUBLISH
END:VEVENT
END:VCALENDAR