BEGIN:VCALENDAR
VERSION:2.0
PRODID:spatie/icalendar-generator
DESCRIPTION:Events from Verein Grünzeug
X-WR-CALDESC:Events from Verein Grünzeug
REFRESH-INTERVAL;VALUE=DURATION:PT1440M
X-PUBLISHED-TTL:PT1440M
BEGIN:VTIMEZONE
TZID:Europe/Vienna
BEGIN:STANDARD
DTSTART:20231029T030000Z
TZOFFSETFROM:+0200
TZOFFSETTO:+0100
END:STANDARD
BEGIN:DAYLIGHT
DTSTART:20240331T020000Z
TZOFFSETFROM:+0100
TZOFFSETTO:+0200
END:DAYLIGHT
END:VTIMEZONE
BEGIN:VTIMEZONE
TZID:UTC
BEGIN:STANDARD
DTSTART:20250723T165635Z
TZOFFSETFROM:+0000
TZOFFSETTO:+0000
END:STANDARD
END:VTIMEZONE
BEGIN:VEVENT
UID:14-13
DTSTAMP:20260419T165635Z
SUMMARY:9. Offenes Vereinstreffen
LOCATION:greenroot Marktgraben 14  Innsbruck  6020
ORGANIZER;CN=gruenzeugadmin:MAILTO:christian.gasser1993@protonmail.com
DTSTART;TZID=Europe/Vienna:20240202T190000
DTEND;TZID=Europe/Vienna:20240202T210000
X-ALT-DESC;FMTTYPE=TEXT/HTML:Wir laden herzlich ein zum nächsten offenen V
 ereinstreffen am Freitag\, den 02.02 um 19 Uhr im greenroot am Marktgraben
  14. Die Themen dieses Mal sind unter anderem der aktuelle Stand der Dinge
  (personell\, finanziell)\, Förderungen\, Allfälliges\,... Wir freuen un
 s auf zahlreiches erscheinen und immer auf eventuell neue Leute!
CATEGORIES:Allgemein
URL;VALUE=URI:https://gruenzeug.tirol/mc-events/9-offenes-vereinstreffen/
METHOD:PUBLISH
END:VEVENT
END:VCALENDAR